BEGIN:VCALENDAR
VERSION:2.0
PRODID:-//HAE - Australasia - ECPv4.9.1.1//NONSGML v1.0//EN
CALSCALE:GREGORIAN
METHOD:PUBLISH
X-WR-CALNAME:HAE - Australasia
X-ORIGINAL-URL:https://haeaustralasia.org.au
X-WR-CALDESC:Events for HAE - Australasia
BEGIN:VEVENT
DTSTART;TZID=UTC+0:20200514T080000
DTEND;TZID=UTC+0:20200517T120000
DTSTAMP:20200302T015400
CREATED:20191015T080642Z
LAST-MODIFIED:20191015T082801Z
UID:12860-1589443200-1589716800@haeaustralasia.org.au
SUMMARY:HAEi 2020 Global Conference - Frankfurt
DESCRIPTION:The 2020 HAEi Global Conference is looking like being the biggest conference so far with many more countries and participants it is going to be a fantastic event. \nHAE Australasia is pleased to have been allocated more travel grants for Aussies and Kiwis than ever before. \nFor more information on the conference please follow this link. \n
URL:https://haeaustralasia.org.au/event/haei-2020-global-conference-frankfurt/
LOCATION:Frankfurt\, Germany
END:VEVENT
END:VCALENDAR