BEGIN:VCALENDAR
VERSION:2.0
PRODID:-//HAE - Australasia - ECPv4.9.1.1//NONSGML v1.0//EN
CALSCALE:GREGORIAN
METHOD:PUBLISH
X-WR-CALNAME:HAE - Australasia
X-ORIGINAL-URL:https://haeaustralasia.org.au
X-WR-CALDESC:Events for HAE - Australasia
BEGIN:VEVENT
DTSTART;VALUE=DATE:20200516
DTEND;VALUE=DATE:20200517
DTSTAMP:20200302T054304
CREATED:20191015T083826Z
LAST-MODIFIED:20191015T083826Z
UID:12872-1589587200-1589673599@haeaustralasia.org.au
SUMMARY:HAE Day!!!!!
DESCRIPTION:May 16th every year is our own global awareness day. \nTake the opportunity to talk about HAE and to educate the wider community. \nTake part in the Global Walk and make every step count. \nHold an event and fundraise for HAE Australasia – ask us how by emailing info@haeaustralasia.org.au \n \n
URL:https://haeaustralasia.org.au/event/hae-day/
END:VEVENT
END:VCALENDAR